BEGIN:VCALENDAR
VERSION:2.0
PRODID:-//İOSB - ECPv5.3.2.1//NONSGML v1.0//EN
CALSCALE:GREGORIAN
METHOD:PUBLISH
X-WR-CALNAME:İOSB
X-ORIGINAL-URL:https://iosb.org.tr
X-WR-CALDESC:İOSB için etkinlikler
BEGIN:VTIMEZONE
TZID:Europe/Moscow
BEGIN:STANDARD
TZOFFSETFROM:+0300
TZOFFSETTO:+0300
TZNAME:MSK
DTSTART:20220101T000000
END:STANDARD
END:VTIMEZONE
BEGIN:VEVENT
DTSTART;TZID=Europe/Moscow:20220224T080000
DTEND;TZID=Europe/Moscow:20220224T170000
DTSTAMP:20260422T061335
CREATED:20220224T090158Z
LAST-MODIFIED:20220224T090346Z
UID:3177-1645689600-1645722000@iosb.org.tr
SUMMARY:Yönetim Kurulu Başkanımız Mustafa Keskin\, Sarıyer Kaymakamı Sn. Mehmet Özer ve Kağıthane Kaymakamı Sn. Mustafa Koç'u makamında ağırladı
DESCRIPTION:Yönetim Kurulu Başkanımız Mustafa Keskin\, Sarıyer Kaymakamı Sn. Mehmet Özer ve Kağıthane Kaymakamı Sn. Mustafa Koç’u makamında ağırladı ve yeni görevi nedeniyle tebrikleri kabul etti.
URL:https://iosb.org.tr/event/yonetim-kurulu-baskanimiz-mustafa-keskin-sariyer-kaymakami-sn-mehmet-ozer-ve-kagithane-kaymakami-sn-mustafa-kocu-makaminda-agirladi/
ATTACH;FMTTYPE=image/jpeg:https://iosb.org.tr/wp-content/uploads/2022/02/274187184_2158610847635467_7955489656954213533_n.jpg
END:VEVENT
END:VCALENDAR