BEGIN:VCALENDAR
VERSION:2.0
PRODID:-//İOSB - ECPv5.3.2.1//NONSGML v1.0//EN
CALSCALE:GREGORIAN
METHOD:PUBLISH
X-WR-CALNAME:İOSB
X-ORIGINAL-URL:https://iosb.org.tr
X-WR-CALDESC:İOSB için etkinlikler
BEGIN:VTIMEZONE
TZID:Europe/Moscow
BEGIN:STANDARD
TZOFFSETFROM:+0300
TZOFFSETTO:+0300
TZNAME:MSK
DTSTART:20220101T000000
END:STANDARD
END:VTIMEZONE
BEGIN:VEVENT
DTSTART;TZID=Europe/Moscow:20220308T080000
DTEND;TZID=Europe/Moscow:20220308T170000
DTSTAMP:20260422T005936
CREATED:20220308T143344Z
LAST-MODIFIED:20220309T051434Z
UID:3318-1646726400-1646758800@iosb.org.tr
SUMMARY:Yönetim Kurulu Başkanımız Mustafa Keskin ile Yönetim ve Denetim Kurulu Üyelerimizin katılımlarıyla\, kadın çalışanlarımızın 8 Mart Dünya Kadınlar Günü'nü kutladık
DESCRIPTION:Programa Başakşehir Yazı İşleri Müdürü Yaprak Kahraman\, Başakşehir Nüfus Müdürü Aylin Ünal\, Başakşehir Kaymakamlığı Özel Kalem’i Gazal Akça\, İkitelli Vergi Dairesi Grup Müdürlüğü Özel Kalem’i Aysel Kale de iştirak ettiler.\n\n\nKurumumuz\, bölgemiz ve ülkemiz için çalışan\, üreten\, emek harcayan tüm kadınların bu anlamlı gününü en içten duygularımızla kutlarız.\n\n\n 
URL:https://iosb.org.tr/event/yonetim-kurulu-baskanimiz-mustafa-keskin-ile-yonetim-ve-denetim-kurulu-uyelerimizin-katilimlariyla-kadin-calisanlarimizin-8-mart-dunya-kadinlar-gununu-kutladik/
ATTACH;FMTTYPE=image/jpeg:https://iosb.org.tr/wp-content/uploads/2022/03/275378386_2172721699557715_1235885241008277721_n.jpg
END:VEVENT
END:VCALENDAR