BEGIN:VCALENDAR
VERSION:2.0
PRODID:-//İOSB - ECPv5.3.2.1//NONSGML v1.0//EN
CALSCALE:GREGORIAN
METHOD:PUBLISH
X-WR-CALNAME:İOSB
X-ORIGINAL-URL:https://iosb.org.tr
X-WR-CALDESC:İOSB için etkinlikler
BEGIN:VTIMEZONE
TZID:Europe/Moscow
BEGIN:STANDARD
TZOFFSETFROM:+0300
TZOFFSETTO:+0300
TZNAME:MSK
DTSTART:20220101T000000
END:STANDARD
END:VTIMEZONE
BEGIN:VEVENT
DTSTART;TZID=Europe/Moscow:20220520T080000
DTEND;TZID=Europe/Moscow:20220520T170000
DTSTAMP:20260421T213544
CREATED:20220520T132023Z
LAST-MODIFIED:20220520T132122Z
UID:3562-1653033600-1653066000@iosb.org.tr
SUMMARY:Yönetim Kurulumuz\, TEİAŞ Genel Müdürü Sn. Orhan Kaldırım'ı ağırladılar
DESCRIPTION:Yönetim Kurulu Başkanımız Mustafa Keskin ve yönetim kurulu üyelerimiz\, TEİAŞ Genel Müdürü Sn. Orhan Kaldırım\, Genel Müdür Yardımcısı Deniz Coşkun\, 1.Bölge Müdürü Murat Türk\, Planlama Yatırım Yönetim Daire Başkanı Serhat Metin\, İşletme Daire Başkanı Ömer Baydilli\, İletim Hatları Tesis Daire Başkanı İlhami Civelek\, Trafo Merkesi Tesis Daire Başkanı Dursun Şimşek\, Trakya Yük Tevzi Müdürü Hasan Dirice’yi ağırladılar.\nToplantıda; güncel elektrik tarifesi\, elektrik arzı ve enerji yatırımları üzerine değerlendirme yapıldı.
URL:https://iosb.org.tr/event/yonetim-kurulumuz-teias-genel-muduru-sn-orhan-kaldirim-agirladilar/
ATTACH;FMTTYPE=image/jpeg:https://iosb.org.tr/wp-content/uploads/2022/05/281200393_2231406117022606_8565889853604837710_n.jpg
END:VEVENT
END:VCALENDAR