BEGIN:VCALENDAR
VERSION:2.0
PRODID:-//İOSB - ECPv5.3.2.1//NONSGML v1.0//EN
CALSCALE:GREGORIAN
METHOD:PUBLISH
X-WR-CALNAME:İOSB
X-ORIGINAL-URL:https://iosb.org.tr
X-WR-CALDESC:İOSB için etkinlikler
BEGIN:VTIMEZONE
TZID:Europe/Moscow
BEGIN:STANDARD
TZOFFSETFROM:+0300
TZOFFSETTO:+0300
TZNAME:MSK
DTSTART:20220101T000000
END:STANDARD
END:VTIMEZONE
BEGIN:VEVENT
DTSTART;TZID=Europe/Moscow:20220924T110000
DTEND;TZID=Europe/Moscow:20220924T133000
DTSTAMP:20260421T151009
CREATED:20220924T080014Z
LAST-MODIFIED:20220930T131123Z
UID:3827-1664017200-1664026200@iosb.org.tr
SUMMARY:Kurumumuzda\, “Reaktif Güç Kompanzasyonu\, Güç Kalitesi ve Harmonikler” konulu eğitim düzenlendi
DESCRIPTION:Kurumumuzda\, TMMOB Elektrik Mühendisleri Odası Bursa Şubesi iş birliği ile “Reaktif Güç Kompanzasyonu\, Güç Kalitesi ve Harmonikler” konulu eğitim düzenlendi. \nEğitim videosuna ulaşmak için tıklayınız.
URL:https://iosb.org.tr/event/kurumumuzda-reaktif-guc-kompanzasyonu-guc-kalitesi-ve-harmonikler-konulu-egitim-duzenlendi/
ATTACH;FMTTYPE=image/jpeg:https://iosb.org.tr/wp-content/uploads/2022/09/IMG_7707-scaled.jpg
END:VEVENT
END:VCALENDAR