BEGIN:VCALENDAR
VERSION:2.0
PRODID:-//İOSB - ECPv5.3.2.1//NONSGML v1.0//EN
CALSCALE:GREGORIAN
METHOD:PUBLISH
X-WR-CALNAME:İOSB
X-ORIGINAL-URL:https://iosb.org.tr
X-WR-CALDESC:İOSB için etkinlikler
BEGIN:VTIMEZONE
TZID:Europe/Moscow
BEGIN:STANDARD
TZOFFSETFROM:+0300
TZOFFSETTO:+0300
TZNAME:MSK
DTSTART:20230101T000000
END:STANDARD
END:VTIMEZONE
BEGIN:VEVENT
DTSTART;TZID=Europe/Moscow:20230926T080000
DTEND;TZID=Europe/Moscow:20230926T170000
DTSTAMP:20260420T160305
CREATED:20230926T070450Z
LAST-MODIFIED:20230926T070450Z
UID:4667-1695715200-1695747600@iosb.org.tr
SUMMARY:Yönetim Kurulumuz\, Başakşehir Emniyet Müdürü Muhammet Hanifi Zengin’i ziyaret ettiler
DESCRIPTION:Yönetim Kurulu Başkanımız Mustafa Keskin ve yönetim kurulu üyelerimiz\, Başakşehir Emniyet Müdürlüğüne atanan Muhammet Hanifi Zengin’i ziyaret ettiler ve hayırlı olsun temennisinde bulundular.
URL:https://iosb.org.tr/event/yonetim-kurulumuz-basaksehir-emniyet-muduru-muhammet-hanifi-zengini-ziyaret-ettiler/
ATTACH;FMTTYPE=image/jpeg:https://iosb.org.tr/wp-content/uploads/380692703_17937463157723545_1822409937278279064_n.jpg
END:VEVENT
BEGIN:VEVENT
DTSTART;TZID=Europe/Moscow:20231011T080000
DTEND;TZID=Europe/Moscow:20231011T170000
DTSTAMP:20260420T160306
CREATED:20231011T134840Z
LAST-MODIFIED:20231011T135422Z
UID:4691-1697011200-1697043600@iosb.org.tr
SUMMARY:Yönetim Kurulu Başkanımız Mustafa Keskin ve meslek odası başkanları\, Özel İkitelli OSB Mesleki ve Teknik Anadolu lisesini ziyaret ettiler
DESCRIPTION:Yönetim Kurulu Başkanımız Mustafa Keskin ve meslek odası başkanları\, Özel İkitelli OSB Mesleki ve Teknik Anadolu lisesini ziyaret ettiler.\nÖğrencilerle bir araya gelen heyet\, mesleki eğitimin önemine vurgu yaparken öğrencilerin eğitim hayatlarına yönelik başarı dileklerini de ilettiler.\n\n           
URL:https://iosb.org.tr/event/yonetim-kurulu-baskanimiz-mustafa-keskin-ve-meslek-odasi-baskanlari-ozel-ikitelli-osb-mesleki-ve-teknik-anadolu-lisesini-ziyaret-ettiler/
ATTACH;FMTTYPE=image/jpeg:https://iosb.org.tr/wp-content/uploads/386105204_2634757040020843_6821348831573527cover571_n.jpg
END:VEVENT
BEGIN:VEVENT
DTSTART;TZID=Europe/Moscow:20231031T080000
DTEND;TZID=Europe/Moscow:20231031T170000
DTSTAMP:20260420T160306
CREATED:20231031T082728Z
LAST-MODIFIED:20231031T082728Z
UID:4756-1698739200-1698771600@iosb.org.tr
SUMMARY:Cumhuriyetimizin 100. Yılını İkitelli OSB Çalışanlarımızla Kutladık
DESCRIPTION:Yönetim Kurulu Başkanımız Mustafa Keskin ve yönetim kurulu üyelerimiz\, Cumhuriyetimizin 100. yılı sebebiyle düzenlenen ve İkitelli OSB çalışanlarının katıldığı kutlama yemeğine ev sahipliği yaptılar.\n\n\nYönetim Kurulu Başkanımız Mustafa Keskin; herbir çalışanımızın\, kurumumuzun ve Cumhuriyetimizin sigortası olduğuna vurgu yaparak nice kutlamalarda bir arada olabilme temennisinde bulundu.\n\n\n           
URL:https://iosb.org.tr/event/cumhuriyetimizin-100-yilini-ikitelli-osb-calisanlarimizla-kutladik/
ATTACH;FMTTYPE=image/jpeg:https://iosb.org.tr/wp-content/uploads/398034759_2648838238612723_8599378291887315501_n.jpg
END:VEVENT
END:VCALENDAR