BEGIN:VCALENDAR
VERSION:2.0
PRODID:-//İOSB - ECPv5.3.2.1//NONSGML v1.0//EN
CALSCALE:GREGORIAN
METHOD:PUBLISH
X-WR-CALNAME:İOSB
X-ORIGINAL-URL:https://iosb.org.tr
X-WR-CALDESC:İOSB için etkinlikler
BEGIN:VTIMEZONE
TZID:Europe/Moscow
BEGIN:STANDARD
TZOFFSETFROM:+0300
TZOFFSETTO:+0300
TZNAME:MSK
DTSTART:20240101T000000
END:STANDARD
END:VTIMEZONE
BEGIN:VEVENT
DTSTART;VALUE=DATE:20240508
DTEND;VALUE=DATE:20240509
DTSTAMP:20260420T033229
CREATED:20240508T123117Z
LAST-MODIFIED:20240508T124023Z
UID:5146-1715126400-1715212799@iosb.org.tr
SUMMARY:5. Kariyer ve Teknoloji Günleri Açılışı
DESCRIPTION:Yönetim Kurulu Başkanımız Mustafa Keskin ve yönetim kurulu üyelerimiz\, bölgemizdeki sanayicileri ve İOSB Mesleki ve Teknik Anadolu Lisesi öğrencilerini buluşturan 5. Kariyer ve Teknoloji Günleri’nin açılış programına katıldılar.\n\n\nSaygı Duruşu ve İstiklal Marşının ardından protokol konuşmalarıyla başlayan programın bitiminde ise tüm misafirler alandaki firmaların stantlarını gezerek firma yöneticilerinden bilgi aldılar ve öğrencilerin mesleki becerilerini ortaya koydukları ürünleri incelediler.
URL:https://iosb.org.tr/event/5-kariyer-ve-teknoloji-gunleri-acilisi/
ATTACH;FMTTYPE=image/jpeg:https://iosb.org.tr/wp-content/uploads/440451268_2782428191920393_6474916518835413670_n.jpg
END:VEVENT
END:VCALENDAR